BEGIN:VCALENDAR
VERSION:2.0
PRODID:-//Landesverband Steiermark für Eis- und Stocksport - ECPv6.15.20//NONSGML v1.0//EN
CALSCALE:GREGORIAN
METHOD:PUBLISH
X-WR-CALNAME:Landesverband Steiermark für Eis- und Stocksport
X-ORIGINAL-URL:https://lv-stmk.at
X-WR-CALDESC:Veranstaltungen für Landesverband Steiermark für Eis- und Stocksport
REFRESH-INTERVAL;VALUE=DURATION:PT1H
X-Robots-Tag:noindex
X-PUBLISHED-TTL:PT1H
BEGIN:VTIMEZONE
TZID:Europe/Vienna
BEGIN:DAYLIGHT
TZOFFSETFROM:+0100
TZOFFSETTO:+0200
TZNAME:CEST
DTSTART:20230326T010000
END:DAYLIGHT
BEGIN:STANDARD
TZOFFSETFROM:+0200
TZOFFSETTO:+0100
TZNAME:CET
DTSTART:20231029T010000
END:STANDARD
BEGIN:DAYLIGHT
TZOFFSETFROM:+0100
TZOFFSETTO:+0200
TZNAME:CEST
DTSTART:20240331T010000
END:DAYLIGHT
BEGIN:STANDARD
TZOFFSETFROM:+0200
TZOFFSETTO:+0100
TZNAME:CET
DTSTART:20241027T010000
END:STANDARD
BEGIN:DAYLIGHT
TZOFFSETFROM:+0100
TZOFFSETTO:+0200
TZNAME:CEST
DTSTART:20250330T010000
END:DAYLIGHT
BEGIN:STANDARD
TZOFFSETFROM:+0200
TZOFFSETTO:+0100
TZNAME:CET
DTSTART:20251026T010000
END:STANDARD
END:VTIMEZONE
BEGIN:VEVENT
DTSTART;VALUE=DATE:20240407
DTEND;VALUE=DATE:20240408
DTSTAMP:20260422T145419
CREATED:20240208T101538Z
LAST-MODIFIED:20240208T102134Z
UID:3874-1712448000-1712534399@lv-stmk.at
SUMMARY:ESV Puch bei Weiz/Jugendturnier U 19
DESCRIPTION:Ausschreibung
URL:https://lv-stmk.at/event/esv-puch-bei-weiz-jugendturnier-u-19/
LOCATION:Puch bei Weiz\, Puch 174\, Puch bei Weiz\, Steiermark\, 8182\, Österreich
CATEGORIES:Turniere
END:VEVENT
BEGIN:VEVENT
DTSTART;VALUE=DATE:20240413
DTEND;VALUE=DATE:20240414
DTSTAMP:20260422T145419
CREATED:20240318T100927Z
LAST-MODIFIED:20240318T100927Z
UID:4015-1712966400-1713052799@lv-stmk.at
SUMMARY:LM Weitenwettbewerb
DESCRIPTION:Ausschreibung
URL:https://lv-stmk.at/event/lm-weitenwettbewerb-2/
LOCATION:Sebersdorf
CATEGORIES:Meisterschaft
END:VEVENT
BEGIN:VEVENT
DTSTART;VALUE=DATE:20240414
DTEND;VALUE=DATE:20240415
DTSTAMP:20260422T145419
CREATED:20240318T102622Z
LAST-MODIFIED:20240318T102622Z
UID:4032-1713052800-1713139199@lv-stmk.at
SUMMARY:LM Schüler/Jugend U 14
DESCRIPTION:Ausschreibung
URL:https://lv-stmk.at/event/lm-schueler-jugend-u-14-5/
LOCATION:Frohnleiten\, Grazerstraße 20\, Frohnleiten\, Steiermark\, 8130
CATEGORIES:Meisterschaft
END:VEVENT
BEGIN:VEVENT
DTSTART;VALUE=DATE:20240417
DTEND;VALUE=DATE:20240421
DTSTAMP:20260422T145419
CREATED:20240227T151154Z
LAST-MODIFIED:20240227T151204Z
UID:3900-1713312000-1713657599@lv-stmk.at
SUMMARY:ESV Unterrohr/Frühlingsturnier
DESCRIPTION:Ausschreibung
URL:https://lv-stmk.at/event/esv-unterrohr-fruehlingsturnier/
LOCATION:Unterrohr\, Unterrohr 241\, Unterrohr\, Steiermark\, 8294\, Österreich
CATEGORIES:Turniere
END:VEVENT
BEGIN:VEVENT
DTSTART;VALUE=DATE:20240421
DTEND;VALUE=DATE:20240422
DTSTAMP:20260422T145419
CREATED:20240208T102103Z
LAST-MODIFIED:20240208T102103Z
UID:3876-1713657600-1713743999@lv-stmk.at
SUMMARY:RSU Leitersdorf Schüler U 14 Turnier
DESCRIPTION:Ausschreibung
URL:https://lv-stmk.at/event/rsu-leitersdorf-schueler-u-14-turnier/
LOCATION:Komm-Zentrum Leitersdorf\, Leitersdorf 123\, Feldbach\, 8330\, Österreich
CATEGORIES:Turniere
END:VEVENT
BEGIN:VEVENT
DTSTART;VALUE=DATE:20240427
DTEND;VALUE=DATE:20240428
DTSTAMP:20260422T145419
CREATED:20240318T101509Z
LAST-MODIFIED:20240318T101509Z
UID:4019-1714176000-1714262399@lv-stmk.at
SUMMARY:LM Jugend U 19
DESCRIPTION:Ausschreibung
URL:https://lv-stmk.at/event/lm-jugend-u-19-4/
LOCATION:Krieglach\, Werkstraße 45\, Krieglach\, Steiermark\, 8670\, Österreich
CATEGORIES:Meisterschaft
END:VEVENT
BEGIN:VEVENT
DTSTART;VALUE=DATE:20240428
DTEND;VALUE=DATE:20240429
DTSTAMP:20260422T145419
CREATED:20240318T102957Z
LAST-MODIFIED:20240318T102957Z
UID:4035-1714262400-1714348799@lv-stmk.at
SUMMARY:LM Schüler/Jugend U 14
DESCRIPTION:Ausschreibung
URL:https://lv-stmk.at/event/lm-schueler-jugend-u-14-6/
LOCATION:Frohnleiten\, Grazerstraße 20\, Frohnleiten\, Steiermark\, 8130
CATEGORIES:Meisterschaft
END:VEVENT
END:VCALENDAR