BEGIN:VCALENDAR
VERSION:2.0
PRODID:-//Landesverband Steiermark für Eis- und Stocksport - ECPv6.15.20//NONSGML v1.0//EN
CALSCALE:GREGORIAN
METHOD:PUBLISH
X-WR-CALNAME:Landesverband Steiermark für Eis- und Stocksport
X-ORIGINAL-URL:https://lv-stmk.at
X-WR-CALDESC:Veranstaltungen für Landesverband Steiermark für Eis- und Stocksport
REFRESH-INTERVAL;VALUE=DURATION:PT1H
X-Robots-Tag:noindex
X-PUBLISHED-TTL:PT1H
BEGIN:VTIMEZONE
TZID:Europe/Vienna
BEGIN:DAYLIGHT
TZOFFSETFROM:+0100
TZOFFSETTO:+0200
TZNAME:CEST
DTSTART:20220327T010000
END:DAYLIGHT
BEGIN:STANDARD
TZOFFSETFROM:+0200
TZOFFSETTO:+0100
TZNAME:CET
DTSTART:20221030T010000
END:STANDARD
BEGIN:DAYLIGHT
TZOFFSETFROM:+0100
TZOFFSETTO:+0200
TZNAME:CEST
DTSTART:20230326T010000
END:DAYLIGHT
BEGIN:STANDARD
TZOFFSETFROM:+0200
TZOFFSETTO:+0100
TZNAME:CET
DTSTART:20231029T010000
END:STANDARD
BEGIN:DAYLIGHT
TZOFFSETFROM:+0100
TZOFFSETTO:+0200
TZNAME:CEST
DTSTART:20240331T010000
END:DAYLIGHT
BEGIN:STANDARD
TZOFFSETFROM:+0200
TZOFFSETTO:+0100
TZNAME:CET
DTSTART:20241027T010000
END:STANDARD
END:VTIMEZONE
BEGIN:VEVENT
DTSTART;VALUE=DATE:20230902
DTEND;VALUE=DATE:20230904
DTSTAMP:20260424T133445
CREATED:20230223T142134Z
LAST-MODIFIED:20230223T142134Z
UID:2980-1693612800-1693785599@lv-stmk.at
SUMMARY:LM Zielwettbewerb
DESCRIPTION:Ausschreibung
URL:https://lv-stmk.at/event/lm-zielwettbewerb/
LOCATION:Seiersberg\, Schlarweg 7\, Seiersberg\, Steiermark\, 8055\, Österreich
CATEGORIES:Meisterschaft
END:VEVENT
BEGIN:VEVENT
DTSTART;VALUE=DATE:20230909
DTEND;VALUE=DATE:20230910
DTSTAMP:20260424T133445
CREATED:20230831T115245Z
LAST-MODIFIED:20230831T115245Z
UID:3438-1694217600-1694303999@lv-stmk.at
SUMMARY:Jubiläumsturnier des TUS Krieglach
DESCRIPTION:Ausschreibung
URL:https://lv-stmk.at/event/jubilaeumsturnier-des-tus-krieglach/
LOCATION:Krieglach\, Werkstraße 45\, Krieglach\, Steiermark\, 8670\, Österreich
CATEGORIES:Turniere
END:VEVENT
BEGIN:VEVENT
DTSTART;VALUE=DATE:20230910
DTEND;VALUE=DATE:20230911
DTSTAMP:20260424T133445
CREATED:20230223T144149Z
LAST-MODIFIED:20230905T145326Z
UID:2982-1694304000-1694390399@lv-stmk.at
SUMMARY:LM Senioren Ü 50
DESCRIPTION:Ausschreibung
URL:https://lv-stmk.at/event/lm-senioren-ue-50-2/
LOCATION:Kindberg\, Sportgasse 5\, Kindberg\, Steiermark\, 8650\, Österreich
CATEGORIES:Meisterschaft
END:VEVENT
BEGIN:VEVENT
DTSTART;VALUE=DATE:20230910
DTEND;VALUE=DATE:20230911
DTSTAMP:20260424T133445
CREATED:20230223T144644Z
LAST-MODIFIED:20230905T145428Z
UID:2986-1694304000-1694390399@lv-stmk.at
SUMMARY:LM Junioren U 23
DESCRIPTION:Ausschreibung
URL:https://lv-stmk.at/event/lm-junioren-u-23/
LOCATION:Riegersberg\, Riegersbergweg II 56\, Riegersberg\, Steiermark\, 8250\, Österreich
CATEGORIES:Meisterschaft
END:VEVENT
BEGIN:VEVENT
DTSTART;VALUE=DATE:20230924
DTEND;VALUE=DATE:20230925
DTSTAMP:20260424T133445
CREATED:20230823T103051Z
LAST-MODIFIED:20230823T103051Z
UID:3417-1695513600-1695599999@lv-stmk.at
SUMMARY:Apfelland-Nachwuchs-Pokal
DESCRIPTION:Ausschreibung
URL:https://lv-stmk.at/event/apfelland-nachwuchs-pokal/
LOCATION:Puch bei Weiz\, Puch 174\, Puch bei Weiz\, Steiermark\, 8182\, Österreich
CATEGORIES:Turniere
END:VEVENT
BEGIN:VEVENT
DTSTART;VALUE=DATE:20230928
DTEND;VALUE=DATE:20230929
DTSTAMP:20260424T133445
CREATED:20230913T125550Z
LAST-MODIFIED:20230913T131117Z
UID:3476-1695859200-1695945599@lv-stmk.at
SUMMARY:SSV ASKÖ Weiz Nord Duo Tage Herren
DESCRIPTION:Ausschreibung
URL:https://lv-stmk.at/event/ssv-askoe-weiz-nord-duo-tage-herren/
LOCATION:Stocksporthalle Weiz Nord\, Dr.-Karl-Widdmann-Straße 105\, Weiz\, 8160
CATEGORIES:Turniere
END:VEVENT
BEGIN:VEVENT
DTSTART;VALUE=DATE:20230929
DTEND;VALUE=DATE:20230930
DTSTAMP:20260424T133445
CREATED:20230913T130111Z
LAST-MODIFIED:20230913T130111Z
UID:3478-1695945600-1696031999@lv-stmk.at
SUMMARY:SSV ASKÖ Weiz Nord Duo Mixed
DESCRIPTION:Ausschreibung
URL:https://lv-stmk.at/event/ssv-askoe-weiz-nord-duo-mixed/
LOCATION:Stocksporthalle Weiz Nord\, Dr.-Karl-Widdmann-Straße 105\, Weiz\, 8160
CATEGORIES:Turniere
END:VEVENT
BEGIN:VEVENT
DTSTART;VALUE=DATE:20230929
DTEND;VALUE=DATE:20231002
DTSTAMP:20260424T133445
CREATED:20230425T132657Z
LAST-MODIFIED:20230425T132657Z
UID:3173-1695945600-1696204799@lv-stmk.at
SUMMARY:ESV UNTERROHR
DESCRIPTION:Mantsch Franz Gedenkturnier
URL:https://lv-stmk.at/event/esv-unterrohr/
LOCATION:Unterrohr\, Unterrohr 241\, Unterrohr\, Steiermark\, 8294\, Österreich
CATEGORIES:Turniere
END:VEVENT
END:VCALENDAR