BEGIN:VCALENDAR
VERSION:2.0
PRODID:-//Landesverband Steiermark für Eis- und Stocksport - ECPv6.15.20//NONSGML v1.0//EN
CALSCALE:GREGORIAN
METHOD:PUBLISH
X-WR-CALNAME:Landesverband Steiermark für Eis- und Stocksport
X-ORIGINAL-URL:https://lv-stmk.at
X-WR-CALDESC:Veranstaltungen für Landesverband Steiermark für Eis- und Stocksport
REFRESH-INTERVAL;VALUE=DURATION:PT1H
X-Robots-Tag:noindex
X-PUBLISHED-TTL:PT1H
BEGIN:VTIMEZONE
TZID:Europe/Vienna
BEGIN:DAYLIGHT
TZOFFSETFROM:+0100
TZOFFSETTO:+0200
TZNAME:CEST
DTSTART:20230326T010000
END:DAYLIGHT
BEGIN:STANDARD
TZOFFSETFROM:+0200
TZOFFSETTO:+0100
TZNAME:CET
DTSTART:20231029T010000
END:STANDARD
BEGIN:DAYLIGHT
TZOFFSETFROM:+0100
TZOFFSETTO:+0200
TZNAME:CEST
DTSTART:20240331T010000
END:DAYLIGHT
BEGIN:STANDARD
TZOFFSETFROM:+0200
TZOFFSETTO:+0100
TZNAME:CET
DTSTART:20241027T010000
END:STANDARD
BEGIN:DAYLIGHT
TZOFFSETFROM:+0100
TZOFFSETTO:+0200
TZNAME:CEST
DTSTART:20250330T010000
END:DAYLIGHT
BEGIN:STANDARD
TZOFFSETFROM:+0200
TZOFFSETTO:+0100
TZNAME:CET
DTSTART:20251026T010000
END:STANDARD
END:VTIMEZONE
BEGIN:VEVENT
DTSTART;VALUE=DATE:20240511
DTEND;VALUE=DATE:20240512
DTSTAMP:20260422T145419
CREATED:20240318T103125Z
LAST-MODIFIED:20240318T103125Z
UID:4038-1715385600-1715471999@lv-stmk.at
SUMMARY:LM Schüler/Jugend U 14
DESCRIPTION:Ausschreibung
URL:https://lv-stmk.at/event/lm-schueler-jugend-u-14-7/
LOCATION:Feldbach\, Thallerstraße 7\, Feldbach\, Steiermark\, 8330
CATEGORIES:Meisterschaft
END:VEVENT
END:VCALENDAR