BEGIN:VCALENDAR
VERSION:2.0
PRODID:-//Landesverband Steiermark für Eis- und Stocksport - ECPv6.15.20//NONSGML v1.0//EN
CALSCALE:GREGORIAN
METHOD:PUBLISH
X-ORIGINAL-URL:https://lv-stmk.at
X-WR-CALDESC:Veranstaltungen für Landesverband Steiermark für Eis- und Stocksport
REFRESH-INTERVAL;VALUE=DURATION:PT1H
X-Robots-Tag:noindex
X-PUBLISHED-TTL:PT1H
BEGIN:VTIMEZONE
TZID:Europe/Vienna
BEGIN:DAYLIGHT
TZOFFSETFROM:+0100
TZOFFSETTO:+0200
TZNAME:CEST
DTSTART:20220327T010000
END:DAYLIGHT
BEGIN:STANDARD
TZOFFSETFROM:+0200
TZOFFSETTO:+0100
TZNAME:CET
DTSTART:20221030T010000
END:STANDARD
BEGIN:DAYLIGHT
TZOFFSETFROM:+0100
TZOFFSETTO:+0200
TZNAME:CEST
DTSTART:20230326T010000
END:DAYLIGHT
BEGIN:STANDARD
TZOFFSETFROM:+0200
TZOFFSETTO:+0100
TZNAME:CET
DTSTART:20231029T010000
END:STANDARD
BEGIN:DAYLIGHT
TZOFFSETFROM:+0100
TZOFFSETTO:+0200
TZNAME:CEST
DTSTART:20240331T010000
END:DAYLIGHT
BEGIN:STANDARD
TZOFFSETFROM:+0200
TZOFFSETTO:+0100
TZNAME:CET
DTSTART:20241027T010000
END:STANDARD
END:VTIMEZONE
BEGIN:VEVENT
DTSTART;VALUE=DATE:20231223
DTEND;VALUE=DATE:20231224
DTSTAMP:20260424T152752
CREATED:20230928T103018Z
LAST-MODIFIED:20230928T160110Z
UID:3500-1703289600-1703375999@lv-stmk.at
SUMMARY:LV-Vorbereitungsturnier
DESCRIPTION:Ausschreibung
URL:https://lv-stmk.at/event/lv-vorbereitungsturnier/
LOCATION:Kapfenberg\, Johann-Brandl-Gasse 23\, Kapfenberg\, 8605\, Österreich
CATEGORIES:Turniere
END:VEVENT
BEGIN:VEVENT
DTSTART;VALUE=DATE:20231223
DTEND;VALUE=DATE:20231224
DTSTAMP:20260424T152752
CREATED:20231206T151919Z
LAST-MODIFIED:20231206T153345Z
UID:3747-1703289600-1703375999@lv-stmk.at
SUMMARY:LM Jugend U 23
DESCRIPTION:Ausschreibung
URL:https://lv-stmk.at/event/lm-jugend-u-23/
LOCATION:Kapfenberg\, Johann-Brandl-Gasse 23\, Kapfenberg\, 8605\, Österreich
CATEGORIES:Meisterschaft
END:VEVENT
END:VCALENDAR